BEGIN:VCALENDAR
VERSION:2.0
PRODID:-//Reuss-Institut - ECPv6.15.20//NONSGML v1.0//EN
CALSCALE:GREGORIAN
METHOD:PUBLISH
X-WR-CALNAME:Reuss-Institut
X-ORIGINAL-URL:https://reuss-institut.ch
X-WR-CALDESC:Veranstaltungen im Reuss-Institut
REFRESH-INTERVAL;VALUE=DURATION:PT1H
X-Robots-Tag:noindex
X-PUBLISHED-TTL:PT1H
BEGIN:VTIMEZONE
TZID:Europe/Zurich
BEGIN:DAYLIGHT
TZOFFSETFROM:+0100
TZOFFSETTO:+0200
TZNAME:CEST
DTSTART:20250330T010000
END:DAYLIGHT
BEGIN:STANDARD
TZOFFSETFROM:+0200
TZOFFSETTO:+0100
TZNAME:CET
DTSTART:20251026T010000
END:STANDARD
BEGIN:DAYLIGHT
TZOFFSETFROM:+0100
TZOFFSETTO:+0200
TZNAME:CEST
DTSTART:20260329T010000
END:DAYLIGHT
BEGIN:STANDARD
TZOFFSETFROM:+0200
TZOFFSETTO:+0100
TZNAME:CET
DTSTART:20261025T010000
END:STANDARD
BEGIN:DAYLIGHT
TZOFFSETFROM:+0100
TZOFFSETTO:+0200
TZNAME:CEST
DTSTART:20270328T010000
END:DAYLIGHT
BEGIN:STANDARD
TZOFFSETFROM:+0200
TZOFFSETTO:+0100
TZNAME:CET
DTSTART:20271031T010000
END:STANDARD
END:VTIMEZONE
BEGIN:VEVENT
DTSTART;TZID=Europe/Zurich:20260420T084500
DTEND;TZID=Europe/Zurich:20260422T170000
DTSTAMP:20260422T013246
CREATED:20250924T140741Z
LAST-MODIFIED:20251030T165502Z
UID:7342-1776674700-1776877200@reuss-institut.ch
SUMMARY:Den Glauben teilen - Modul 3:  Glaubenskommunikation
DESCRIPTION:Was bedeutet die Auferstehung? Was ist mit Vergebung und Erlösung gemeint? Was meint das ewige Leben? Das Modul behandelt die zentralen Themen christlicher Theologie und zeigt Wege\, wie diese Inhalte Menschen heute lebensnahe vermittelt werden können.   \nKompetenzen:  \n\nEigene Charismen entdecken bezüglich Zielgruppe der Glaubens-kommunikation \nTheologische Fachkenntnisse vermitteln können \nTheologischen Bildungsbedarf erkennen \nGlaubensgespräche führen können \nGespräche mit Angehörigen anderer Religionen und Weltanschauungen führen können \n\n  \nHandlungssitutation:  \n\nGespräche zu theologischen Themen führen \nDen christlichen Glauben in heutiger Sprache formulieren \nDialog mit Andersdenkenden und Andersglaubenden \n\nDozierende: \n\nProf. Dr. Ursula Schumacher ist Professorin für Dogmatik an der Universität Luzern\nRomina Monferrini\, Mitarbeiterin Reuss-Institut\, Theologin MA und Religionspädagogin BA\, tätig in einer Pfarrei in der Stadt Luzern sowie im digitalen Raum von Kirche\, freischaffende Beraterin und Referentin für Digitale Pastoral und Doktorandin in Pastoraltheologie.\n\nDaten: \n\nAb 26. März 2026: Beginn der digitalen Vorbereitungsphase \n\nPräsenztage: \n\n20. und 21. April 2026: Dogmatik\, Ursula Schumacher\n22. April 2026: Fertigkeiten und Haltungen: Romina Monferrini\n\nInformationen: \n\nDie Kosten sind inklusive Mittagessen und Pausenverpflegung.\nAnmeldeschluss: 3. April 2026\n\nAnmeldung
URL:https://reuss-institut.ch/event/den-glauben-teilen-modul-3/
LOCATION:Reusshaus\, St. Karlistrasse 11\, Luzern\, 6004\, Switzerland
CATEGORIES:Module
END:VEVENT
END:VCALENDAR